BEGIN:VCALENDAR
VERSION:2.0
CALSCALE:GREGORIAN
PRODID:-//MyApp//Calendar 1.0//EN
BEGIN:VEVENT
METHOD:PUBLISH
UID:32207@regionalniportaly.cz
DTSTAMP:20260421T234445Z
DTSTART;VALUE=DATE:20230527
DTEND;VALUE=DATE:20230528
SUMMARY:Setkání klubu sumcařů
DESCRIPTION:Vítejte na druhém oficiálním&nbsp\;setkání příznivců lovu sumců. Společenská akce\, poutavý doprovodný program a prezentace novinek ze světa sumcařiny. Jsi jedním z&nbsp\;nás? Pak bys zde rozhodně neměl chybět!Více informací zde:https://www.vagnerfishing.com/setkani
LOCATION:Červené Janovice
END:VEVENT
END:VCALENDAR