BEGIN:VCALENDAR
VERSION:2.0
CALSCALE:GREGORIAN
PRODID:-//MyApp//Calendar 1.0//EN
BEGIN:VEVENT
METHOD:PUBLISH
UID:32424@regionalniportaly.cz
DTSTAMP:20260422T080757Z
DTSTART;VALUE=DATE:20230506
DTEND;VALUE=DATE:20230507
SUMMARY:Trumpeta a varhany - Konzert duchovní hudby
DESCRIPTION:Koncert pro trumpetu a varhany v chrámu sv. Barbory v Kutné hoře.První květnovou sobotu zavítá německý sólový trumpetista&nbsp\;Michael Heinrich a jeho kolega profesor Matthias Dreissig do Kutné hory. Všichni příznivci klasické hudby jsou srdečně zváni na jejich večerní vystoupení v impozantním chrámu svaté Barbory.Těšit se můžete mimo jiné na skladby&nbsp\;slavných světových&nbsp\;skladatelů jako například&nbsp\;J.S.Bach\,&nbsp\;F.M.Bartholdy nebo&nbsp\;G.F.Händel.&nbsp\;V ceně koncertu je zahrnut vstup do chrámu.---------------------------------------------------------------------------------------------------Začátek koncertu:&nbsp\;19:00Předpokládané ukončení: 20:00
LOCATION:Kutná Hora
END:VEVENT
END:VCALENDAR