BEGIN:VCALENDAR
VERSION:2.0
CALSCALE:GREGORIAN
PRODID:-//MyApp//Calendar 1.0//EN
BEGIN:VEVENT
METHOD:PUBLISH
UID:32568@regionalniportaly.cz
DTSTAMP:20260422T105531Z
DTSTART;VALUE=DATE:20230716
DTEND;VALUE=DATE:20230717
SUMMARY:Dobré jídlo světa street food piknik Kačina 2023
DESCRIPTION:Setkání příznivců street foodové gastronomie na největším pikniku v Čechách\, v jedinečném prostředí parku zámku Kačina u Kutné Hory.Nabídka kulinářských specialit chutí celého světa v podání těch nejlepších pouličních kuchařů v naší zemi spojená s celodenním programem pro celou rodinu.Sezvěte rodinu\, přátele\, připravte piknikové deky a vyražte za námi na Kačinu! V neděli 16. července od 10 hodin se na Vás budeme těšit!
LOCATION:Kutná Hora
END:VEVENT
END:VCALENDAR