BEGIN:VCALENDAR
VERSION:2.0
CALSCALE:GREGORIAN
PRODID:-//MyApp//Calendar 1.0//EN
BEGIN:VEVENT
METHOD:PUBLISH
UID:34788@regionalniportaly.cz
DTSTAMP:20260422T093608Z
DTSTART;VALUE=DATE:20240628
DTEND;VALUE=DATE:20240630
SUMMARY:festival ZE MĚ
DESCRIPTION:Záměr festivalu je\, šířit vědomý styl života mezi lidi. Šířit nový a jiný způsob žití a pohled na život.Ukázat lidem\, že "to" jde jinak.Stánky\, workshopy\, kapely i přednášející budou v souladu s tímto tématem\, protože tak sami žijí.Vědomý život a žití v souladu je téma tohoto krásného festivalu.
LOCATION:Přelouč
END:VEVENT
END:VCALENDAR