BEGIN:VCALENDAR
VERSION:2.0
CALSCALE:GREGORIAN
PRODID:-//MyApp//Calendar 1.0//EN
BEGIN:VEVENT
METHOD:PUBLISH
UID:35383@regionalniportaly.cz
DTSTAMP:20260422T122705Z
DTSTART;VALUE=DATE:20240213
DTEND;VALUE=DATE:20240214
SUMMARY:Kafe u OSMANYHO | Kutná Hora
DESCRIPTION:Zábavný pořad plný neuvěřitelných historek v podání Osmanyho Laffity míří do Kutné Hory!Originální pořad s populární osobností módního světa.Devadesát minut neuvěřitelných historek ze života Osmanyho Laffity\, při kterých se divák baví od první chvíle. Osmany odhalí i to\, co mělo zůstat utajeno! A bez cenzury!Moderuje Eva Decastelo\, hudební host Bára Mottlová.
LOCATION:Kutná Hora
END:VEVENT
END:VCALENDAR