BEGIN:VCALENDAR
VERSION:2.0
CALSCALE:GREGORIAN
PRODID:-//MyApp//Calendar 1.0//EN
BEGIN:VEVENT
METHOD:PUBLISH
UID:35750@regionalniportaly.cz
DTSTAMP:20260422T155325Z
DTSTART;VALUE=DATE:20231031
DTEND;VALUE=DATE:20231101
SUMMARY:Dušičkový koncert
DESCRIPTION:Koncert duchovní hudby ke vzpomínce na zesnulé v podání vynikajících umělců.
LOCATION:Kutná Hora
END:VEVENT
END:VCALENDAR