BEGIN:VCALENDAR
VERSION:2.0
CALSCALE:GREGORIAN
PRODID:-//MyApp//Calendar 1.0//EN
BEGIN:VEVENT
METHOD:PUBLISH
UID:37555@regionalniportaly.cz
DTSTAMP:20260422T122446Z
DTSTART;VALUE=DATE:20240817
DTEND;VALUE=DATE:20240818
SUMMARY:Chotěboř Fest 2024 - hudební festival pro celou rodinu
DESCRIPTION:Jedná se o hudebně zábavnou akci s řadou mimohudebních kulturních a sociálně prospěšných doprovodných aktivit zaměřenou na všechny věkové kategorie včetně rodin s&nbsp\;dětmi.&nbsp\;Neméně důležitým cílem je propagace regionálních produktů\, kulturních spolků\, místních firem a města Chotěboř.&nbsp\;I s vaší pomocí chceme vytvořit kulturní akci\, na kterou budete pyšní a na kterou se budete vždy rádi vracet.&nbsp\;
LOCATION:Chotěboř
END:VEVENT
END:VCALENDAR