BEGIN:VCALENDAR
VERSION:2.0
CALSCALE:GREGORIAN
PRODID:-//MyApp//Calendar 1.0//EN
BEGIN:VEVENT
METHOD:PUBLISH
UID:38088@regionalniportaly.cz
DTSTAMP:20260422T155426Z
DTSTART;VALUE=DATE:20241006
DTEND;VALUE=DATE:20241007
SUMMARY:BMW setkání a žehnání vozů 2024
DESCRIPTION:www.bmwsetkani.czBMW setkání je setkání dobrých lidí. Lidí\, kteří mají radost z jízdy a radost ze života.&nbsp\;Program:BMW setkání &amp\; žehnání vozů při příležitosti svátku svatýchAndělů strážnýchneděle 6. října 2024\, Třemošnice u Chrudimi12:30 – 13:00 Příjezd a parkování13:30 – 14:30 Prohlídka vápenky - Muzeum Berlova vápenka -Expozice vápenictví15:00 - Žehnání řidičů a vozů15:30 - Ukončení akce\, posezení&nbsp\;Kapacita pro rok 2024 omezena na 25 vozů! Parkování bude umožněno vozidlům BMW s předem zakoupenou vstupenkou. Vstupenky na prohlídku se budou kupovat na místě.&nbsp\;&nbsp\;
LOCATION:Třemošnice
END:VEVENT
END:VCALENDAR