BEGIN:VCALENDAR
VERSION:2.0
CALSCALE:GREGORIAN
PRODID:-//MyApp//Calendar 1.0//EN
BEGIN:VEVENT
METHOD:PUBLISH
UID:38809@regionalniportaly.cz
DTSTAMP:20260422T110550Z
DTSTART;VALUE=DATE:20240530
DTEND;VALUE=DATE:20240531
SUMMARY:ABBA SHOW 50 | Kutná Hora
DESCRIPTION:Největší hity legendární skupiny ABBA v podání nejlepší revivalové kapely v Kutné Hoře!&nbsp\;Show vzdá hold 50. výročí jejího průlomu!Slavná skupina ABBA slaví padesátiny! Show na její počest dorazí i do Brna! Dancing Queen\, Money Money Money\, SOS\, Waterloo\, Mamma Mia\, Happy New Year\, Thank You For The Music\, The Winners Takes It All\, Fernando a mnoho dalších!Můžete se těšit na&nbsp\;100% živé vystoupení bez playbacků a half-playbacků. Celé představení je dokonalou&nbsp\;hudební LIVE SHOW v 10 profesionálních muzikantech&nbsp\;na podiu v dobových kostýmech\,&nbsp\;vše 100% živě. Pro&nbsp\;nezaměnitelný\, autentický zvuk velkého bandu&nbsp\;vystupuje&nbsp\;ABBA WORLD Revival&nbsp\;úspěšně&nbsp\;po celé Evropě&nbsp\;a naše podání tvorby skupiny ABBA&nbsp\;oslovuje posluchače 4 generací.Koncert nabídne&nbsp\;originální provedení repertoáru slavné hudební formace a naše vystoupení je&nbsp\;100% živá show-produkce deseti hudebníků. Repertoár zahrnuje&nbsp\;přes 30 nejznámějších písní švédské legendární mega-skupiny 70-tých a 80-tých let\, které byly nastudovány nejen podle studiových nahrávek\, ale i podle audio a video nahrávek živých vystoupení skupiny&nbsp\;ABBA\, což zaručuje jak přesnost hudebního provedení\, tak i&nbsp\;dokonalé vystižení nálady a atmosféry každé jednotlivé skladby.&nbsp\;Vlastní produkce je&nbsp\;dokonalou&nbsp\;živou interpretací skladeb ABBA na špičkové úrovni\, včetně dokonalé image\, dobových kostýmů a pódiové choreografie.
LOCATION:Kutná Hora
END:VEVENT
END:VCALENDAR