BEGIN:VCALENDAR
VERSION:2.0
CALSCALE:GREGORIAN
PRODID:-//MyApp//Calendar 1.0//EN
BEGIN:VEVENT
METHOD:PUBLISH
UID:38838@regionalniportaly.cz
DTSTAMP:20260422T110729Z
DTSTART;VALUE=DATE:20240222
DTEND;VALUE=DATE:20240223
SUMMARY:Koncert filmové hudby I
DESCRIPTION:Symfonický orchestr Dalibora Havlíčka uvede v Městském Tylově divadle v Kutné Hoře svůj úspěšný koncert filmových melodií.  Zazní například melodie z filmu Rocky\, populárního seriálu Hra o trůny\, či špionážní filmové série Mission Impossible. Uslyšíte ale i slavnou melodii Ennia Morriconeho z filmu Tenkrát na Západě a soundtracky dobrodružných filmů Indiana Jones\, Sedm statečných\, Poslední Mohykán a Vinnetou. Nebudou chybět ani melodie z filmů Pearl Harbor nebo Piráti z Karibiku\, jejichž autorem je jeden z nejvyhledávanějších skladatelů současnosti\, Hans Zimmer. Malé diváky zase jistě potěší melodie z filmové série o Harrym Potterovi nebo animované série Madagascar. Na své si přijdou také milovníci prvního a patrně i nejznámějšího českého filmového muzikálu z roku 1964 Starci na chmelu. 
LOCATION:Kutná Hora
END:VEVENT
END:VCALENDAR