BEGIN:VCALENDAR
VERSION:2.0
CALSCALE:GREGORIAN
PRODID:-//MyApp//Calendar 1.0//EN
BEGIN:VEVENT
METHOD:PUBLISH
UID:39331@regionalniportaly.cz
DTSTAMP:20260422T092209Z
DTSTART;VALUE=DATE:20240215
DTEND;VALUE=DATE:20240216
SUMMARY:Tomík mezi dinosaury
DESCRIPTION:Školák Tomík má rád knížky. Čte všude a pořád.\nMaminka mu večer už čtení zakáže a Tomík si s baterkou zaleze pod peřinu\, protože si půjčil knížku o dinosaurech a brzy ji musí vrátit. Při čtení usne a vidí se uprostřed pralesa se svým pejskem Bulíkem\, který ho všude doprovází. Potkají se s malým dinosaurem\, s kterým se spřátelí.Příběh\, který motivuje děti ke čtení. Dobrodružství jako v knížce jinde nezažijí…\n \nVstupné: 150 Kč
LOCATION:Kutná Hora
END:VEVENT
END:VCALENDAR