BEGIN:VCALENDAR
VERSION:2.0
CALSCALE:GREGORIAN
PRODID:-//MyApp//Calendar 1.0//EN
BEGIN:VEVENT
METHOD:PUBLISH
UID:39380@regionalniportaly.cz
DTSTAMP:20260422T122640Z
DTSTART;VALUE=DATE:20240308
DTEND;VALUE=DATE:20240309
SUMMARY:The.Switch - Skrytý místa tour 2024 + special guest Severals
DESCRIPTION:Ikoničtí crossoveroví the.switch vyrážejí po několika letech na klubové turné. Ke své nové\, kladnými recenzemi oceňované desce "Skrytá místa" vyrážejí na 13 zastávek po České republice a chybět nebude ani křest\, který proběhne 4. dubna 2024 v pražském klubu Bike Jesus.Na tyto koncerty si přizvali mladé a dravé Severals\, kombinující prvky moderního metalu a elektroniky\, kteří před nedávnem vydali svůj nový singl "Dejavu" a vzápětí také jeho remix pod hlavičkou producenta Inhumana.
LOCATION:Kutná Hora
END:VEVENT
END:VCALENDAR