BEGIN:VCALENDAR
VERSION:2.0
CALSCALE:GREGORIAN
PRODID:-//MyApp//Calendar 1.0//EN
BEGIN:VEVENT
METHOD:PUBLISH
UID:39389@regionalniportaly.cz
DTSTAMP:20260422T122427Z
DTSTART;VALUE=DATE:20240420
DTEND;VALUE=DATE:20240421
SUMMARY:TRANSFORMERS SHOW!
DESCRIPTION:Kutná Horo a okolí\, tuhle sobotu děti rozhodně nebudou chtít strávit u televize.Horká novinka&nbsp\;- SHOW GIGANTICKÝCH ROBOTŮ&nbsp\;ve Vašem městě!&nbsp\;Jediné turné v&nbsp\;ČR\, které když propásnete\, bude nenávratně pryč.pozn.:&nbsp\;Kamarádka vás zabije\, pokud ji nedáte vědět taky :)
LOCATION:Kutná Hora
END:VEVENT
END:VCALENDAR