BEGIN:VCALENDAR
VERSION:2.0
CALSCALE:GREGORIAN
PRODID:-//MyApp//Calendar 1.0//EN
BEGIN:VEVENT
METHOD:PUBLISH
UID:39635@regionalniportaly.cz
DTSTAMP:20260422T122357Z
DTSTART;VALUE=DATE:20240423
DTEND;VALUE=DATE:20240424
SUMMARY:Jarní koncert
DESCRIPTION:Jarní koncert\, na kterém zazní nejen duchovní hudba\, ale i neapolitánské písně\, opereta\, muzikál a filmová hudba.Program:W. Gomez - Ave MariaM. Leigh - The Impossible Dream (Man Of La Mancha)&nbsp\;F. Lehár - Die lustige Witwe - Lippen schweigenG. Gershwin - Preludium č. 2F. Lehár - Das Land des Lächelns - Dein ist mein ganzes Herz&nbsp\;E. Kálmán - Die Csárdásfürstin - Heia\, heia\, in den Bergen ist mein Heimatland&nbsp\;G. Rossini - La Danza&nbsp\; Tarantella NapoletanaL. Bernstein - West Side Story - Tonight / Balcony Scene&nbsp\;J. Ježek - Bugatti stepE. De Curtis - Torna a SurrientoE. Morricone - Tenkrát na Západě (Once upon a time in the West)S. Gastaldon - Musica proibita&nbsp\;A. Lara - GranadaF. Sartori - Time To Say Goodbye&nbsp\;
LOCATION:Kutná Hora
END:VEVENT
END:VCALENDAR