BEGIN:VCALENDAR
VERSION:2.0
CALSCALE:GREGORIAN
PRODID:-//MyApp//Calendar 1.0//EN
BEGIN:VEVENT
METHOD:PUBLISH
UID:39703@regionalniportaly.cz
DTSTAMP:20260422T091817Z
DTSTART;VALUE=DATE:20240315
DTEND;VALUE=DATE:20240317
SUMMARY:Víkend Spontánní bubnování s DRUM FLOW
DESCRIPTION:Staň se součástí DRUM FLOW o víkendu od 15.03. do 17.03. a přijeď si užít&nbsp\; hudební tvoření na romantickém Statku Polánka\, kde bude vznikat program&nbsp\;na letní festivalovou sezónu.&nbsp\;POZVÁNKANespoutaná energie na vlně tvořivosti v rytmu bubnů a léčivých nástrojů.&nbsp\;Relax a pohoda v krásném prostředí s úžasnou veganskou stravou od našeho kuchaře. Rituály\, meditace\, kakaová ceremonie\, práce s krystaly\, esenciální oleje\, saunování\, hluboká sdílení s vědomou partou přátel.&nbsp\;Čas budeš mít i na procházky přírodou\, nebo lenošení v posteli. Můžeš si přivézt i své hudební nástroje\, nebo ti rádi zapůjčíme. Těšíme se na společné tvoření kouzelných momentů\, s láskou DRUM FLOW. ❤PROGRAM* Workshop Spontánní bubnování 🥁* Divoký tanec* Zpěv* Kakaová ceremonie* Veganská strava* Sauna (platí se na místě)&nbsp\;* Relax v příroděDRUM FLOW na Statku Polánka pořádá své již 3. soustředění před letní sezónou. Buď součástí a pojď to s námi rozjet už teď! ❤️&nbsp\;🥁 Ubytování na statku\, pokoje s postelemi i lůžkovinami.🥁 Cena za celý víkend 3500 Kč (zahrnuje kakaovou ceremonii\, ubytování\, veganskou stravu -&nbsp\; pátek večeře\, sobota oběd a večeře\, neděle oběd).
LOCATION:Malešov
END:VEVENT
END:VCALENDAR