BEGIN:VCALENDAR
VERSION:2.0
CALSCALE:GREGORIAN
PRODID:-//MyApp//Calendar 1.0//EN
BEGIN:VEVENT
METHOD:PUBLISH
UID:39784@regionalniportaly.cz
DTSTAMP:20260422T194541Z
DTSTART;VALUE=DATE:20240412
DTEND;VALUE=DATE:20240413
SUMMARY:Pavel Čadek - KAFE TOUR | Chotěboř
DESCRIPTION:Pavel Čadek je písničkář doprovázející se na violoncello. Dostal se do povědomí posluchačů jako předskokan Pokáče\, Xindla X\, Petra Bende\, Báry Polákové\, Jelena a dalších... Mezi jeho nejznámější písně patří písně 30 (duet s Pokáčem)\, Prsa (duet s Michalem Horákem)\, Nestíhám\, nebo Utekla mi s ajťákem. Na koncertech střídá humorné písně s vážnými či sentimentálními.V říjnu 2023 vydal své třetí album Stepní vlk\, které bylo nominováno na Anděla. Nyní vyjíždí na speciální akustické komorní turné po kavárnách. Bude zde hrát pro velmi omezený počet lidí písničky bez ozvučení a playlist bude vznikat přímo na místě podle nálady publika.
LOCATION:Chotěboř
END:VEVENT
END:VCALENDAR