BEGIN:VCALENDAR
VERSION:2.0
CALSCALE:GREGORIAN
PRODID:-//MyApp//Calendar 1.0//EN
BEGIN:VEVENT
METHOD:PUBLISH
UID:39896@regionalniportaly.cz
DTSTAMP:20260422T135900Z
DTSTART;VALUE=DATE:20240614
DTEND;VALUE=DATE:20240615
SUMMARY:PUNKPLUGGED ACOUSTIC FESTIVAL vol. 2
DESCRIPTION:Druhý ročník hudebního festivalu pořádaného nedaleko Chlumce nad Cidlinou\, kde se představí Česká Punková špička a&nbsp\;zahraniční hosté. Hraje se bez elektrických kytar a&nbsp\;boosterů a&nbsp\;rozhodně to není nuda – každá kapela to bere&nbsp\;JINAK. Díky tomu uslyšíte nejen oblíbené songy v&nbsp\;jiném kabátě\, ale i&nbsp\;věci\, které by kapely obyčejně naživo nehrály.&nbsp\;Dva pohodové dny plné nejen punkové muziky. Skvělé pivo a&nbsp\;výborné jidlo\, které bude k&nbsp\;dispozici&nbsp\;NONSTOP\, vratné kelímky\, žádné plasty\, žádné smažení! Čisté záchody a&nbsp\;ČÍRO&nbsp\;v&nbsp\;suchu&nbsp\;POD&nbsp\;STŘECHOU.
LOCATION:Újezd u Přelouče
END:VEVENT
END:VCALENDAR