BEGIN:VCALENDAR
VERSION:2.0
CALSCALE:GREGORIAN
PRODID:-//MyApp//Calendar 1.0//EN
BEGIN:VEVENT
METHOD:PUBLISH
UID:40453@regionalniportaly.cz
DTSTAMP:20260422T124428Z
DTSTART;VALUE=DATE:20240320
DTEND;VALUE=DATE:20240321
SUMMARY:Jarní rovnodennost v sedlecké katedrále
DESCRIPTION:Již 12. ročník tradiční Jarní rovnodennosti v sedlecké katedrále\, na kterém vystoupí Slávek Klecandr a Jarda Jatenský ze skupiny Oboroh. Vstupné 200 Kč\, kapacita omezená. Výtěžek ze vstupného bude v letošním roce věnován Hospici Srdcem z Kolína. Předprodej vstupenek na www.sedlec.info nebo v sedleckém informačním centru. 
LOCATION:Kutná Hora
END:VEVENT
END:VCALENDAR