BEGIN:VCALENDAR
VERSION:2.0
CALSCALE:GREGORIAN
PRODID:-//MyApp//Calendar 1.0//EN
BEGIN:VEVENT
METHOD:PUBLISH
UID:41011@regionalniportaly.cz
DTSTAMP:20260422T122715Z
DTSTART;VALUE=DATE:20240517
DTEND;VALUE=DATE:20240519
SUMMARY:NahnedcreWeekend
DESCRIPTION:Dámy a pánové &nbsp\;je to tu -&nbsp\;VÍKENDOVÝ AUTOMOBILOVÝ SRAZDozrál ten správný čas &nbsp\;a my také.&nbsp\;Chceme vás pozvat na náš první víkendový sraz v duchu pohodové atmosféry.Těšit se můžete na:Matěje Dvořáka z UkažKáru\, který Vás provede sobotními soutěžemi&nbsp\;Skvělou hudbu - Michajlov\, Dubsterz Facility\, DJ ILLRICK\, DJ Matty&nbsp\;Soutěže:⭕ Top auto⭕ Top kola⭕ Laťka⭕ Píst (ženy)⭕ Klika (muži)⭕ Tlak výfuku⭕ Pitstop (dvojice)⭕ Slalom (dvojice)⭕ Pivní štafeta (dvojice)⭕ Chilli⭕ BurgerDobré jídlo i pití https://arabelarestaurant.czWorkshopy&nbsp\;Tetování&nbsp\;Barbera&nbsp\;... další doprovodný program 🤹Všechny podrobnosti budeme přidávat v podobě příspěvků na událostiUbytování: &nbsp\;V chatkách: https://konopac-hm.cz (omezená kapacita)\, zdarma v autě\, nebo v malém stanuPartneři akce:Angrybeards 🏴🏳️Czwrappers 🚘LKM Performance 🔥JM-Detailing 💎Top-RacingShop 🏁
LOCATION:Heřmanův Městec
END:VEVENT
END:VCALENDAR