BEGIN:VCALENDAR
VERSION:2.0
CALSCALE:GREGORIAN
PRODID:-//MyApp//Calendar 1.0//EN
BEGIN:VEVENT
METHOD:PUBLISH
UID:42170@regionalniportaly.cz
DTSTAMP:20260422T122545Z
DTSTART;VALUE=DATE:20240517
DTEND;VALUE=DATE:20240518
SUMMARY:Hypnos + Welicoruss + Innersphere | Kutná Hora
DESCRIPTION:Hypnos\, Welicoruss a Innersphere spojili své síly na tomto speciálním koncertě v Kutné Hoře. V rámci společného tour kapel Welicoruss a Innersphere na "In the Shadow of the tour 2024" k nové desce Innersphere představí obě kapely několik skladeb z nové tvorby. Speciálním hostem pro tento večer jsou legendární Hypnos!
LOCATION:Kutná Hora
END:VEVENT
END:VCALENDAR