BEGIN:VCALENDAR
VERSION:2.0
CALSCALE:GREGORIAN
PRODID:-//MyApp//Calendar 1.0//EN
BEGIN:VEVENT
METHOD:PUBLISH
UID:43383@regionalniportaly.cz
DTSTAMP:20260422T080200Z
DTSTART;VALUE=DATE:20240809
DTEND;VALUE=DATE:20240810
SUMMARY:Stadion Cup Břehy 2024
DESCRIPTION:I v letošním roce se můžete druhý srpnový víkend těšit na závody malých motocyklů u nás ve Břehách na fotbalovéh hřišti\, kde vyroste sportovně zábavný areál. Nebude chybět ani kvalitní doprovodný program.Na 25. ročníku závodu mopedů a fichtlů Stadion Cup Břehy 2024 uvidíte závody vyladěných padesátek\, které překračují rychlost 100km/h. Během sobotního odpoledne předvedou freestyle motocrossovou show přímo v areálu jezdci v čele s Pavlem Poláškem. Celou show komentuje legenda freestyle motocrossu Petr Kuchař. Dalším velmi poutavým vystoupením bude Helicopter show při které se nad našimi hlavami budou dít dechberoucí momenty. Páteční i sobotní večer patří už několik let kapelám. Letošní ročník nebude vyjímkou.KAPELYPÁTEK (od 19:00)-HAKEL BAND-- DIVOKEJ BILL revival -- JAHODY -SOBOTA (od 19:00)- COVERS FOR LOVERS -- GREEN DAY revival -- TOTÁLNÍ NASAZENÍ -- STRESOR -
LOCATION:Břehy
END:VEVENT
END:VCALENDAR