BEGIN:VCALENDAR
VERSION:2.0
CALSCALE:GREGORIAN
PRODID:-//MyApp//Calendar 1.0//EN
BEGIN:VEVENT
METHOD:PUBLISH
UID:43739@regionalniportaly.cz
DTSTAMP:20260422T080807Z
DTSTART;VALUE=DATE:20240802
DTEND;VALUE=DATE:20240803
SUMMARY:Pobřežní festival 3. ročník
DESCRIPTION:Třetí ročník multižánrového festivalu konaného v romantickém prostředí louky na labském břehu. I tentokrát se představí interpreti žánru nového cirkusu\, nejprve to bude návrat Bratrů v tricku a jejich legendární Běžkařská odysea\, dále neméně legendární představení La Putyka od Cirku La Putyka. U tohoto kusu je pikantérií\, že hlavní roli hraje člověk\, který je s Přeloučskem bytostně spjat. Navíc si tím připomeneme i patnáct let trvání souboru. Hudební složka festivalu představí rozmanité žánry\, od klasické hudby po blues či poprock. Novinkou letošního ročníku bude storytelling\, takové to vyprávění u ohně.Naší snahou je spokojenost návštěvníků a to se odráží i ve skladbě poskytovatelů občerstvovacích služeb.&nbsp\; Nakonec přijďte a poznejte sami.
LOCATION:Přelouč
END:VEVENT
END:VCALENDAR