BEGIN:VCALENDAR
VERSION:2.0
CALSCALE:GREGORIAN
PRODID:-//MyApp//Calendar 1.0//EN
BEGIN:VEVENT
METHOD:PUBLISH
UID:43803@regionalniportaly.cz
DTSTAMP:20260422T080824Z
DTSTART;VALUE=DATE:20240721
DTEND;VALUE=DATE:20240722
SUMMARY:Dobré jídlo Světa Street food piknik zámek Kačina
DESCRIPTION:Otevřte bránu do světa chutí: Street Food Festival Kačina!21. července se zámecký park Kačina promění v ráj pro gurmány!Připravte se na největší piknik v Čechách:*Rozprostřete deku v malebném parku a vychutnejte si lahodná jídla z celého světa.*Kulinářské speciality od těch nejlepších: Ochutnejte speciality z rukou zkušených street food kuchařů\, od šťavnatých burgerů a exotických kari až po lahodné dezerty a osvěžující limonády.*Jedinečné prostředí zámeckého parku: Historická atmosféra a malebná scenérie parku dodají festivalu jedinečný šmrnc.*Celodenní program pro celou rodinu: Nenechte si ujít živou hudbu\, zábavné soutěže\, dětský program a další aktivity.Nechte se zlákat:*Vůní grilovaných specialit: Maso\, ryby\, zelenina – na grilu se chystá hotová hostina!*Exotickými chutěmi Asie: Ochutnejte pikantní kari\, lahodné pad thai a další speciality z dalekých zemí.*Sladkými pokušeními: Donut\, cheesecake\, churros\, exotické ovoce nebo zmrzlina? Na Street Food Festivalu si vybere každý!Více než jen festival:*Přátelská a rodinná atmosféra: Užijte si den plný zábavy a pohody s vašimi nejbližšími.*Odpočinek v parku: Relaxujte v zeleni a nasajte klid historického prostředí.*Nové zážitky: Objevte kouzlo street foodu a ochutnejte speciality\, které jste ještě nezkoušeli.Street Food Festival Kačina 2024:Datum: Neděle 21. červenceMísto: Zámecký park Kačina u Kutné HoryČas: Od 10 hodin
LOCATION:Kutná Hora
END:VEVENT
END:VCALENDAR