BEGIN:VCALENDAR
VERSION:2.0
CALSCALE:GREGORIAN
PRODID:-//MyApp//Calendar 1.0//EN
BEGIN:VEVENT
METHOD:PUBLISH
UID:43833@regionalniportaly.cz
DTSTAMP:20260422T062959Z
DTSTART;VALUE=DATE:20240918
DTEND;VALUE=DATE:20240919
SUMMARY:Sirény na cestách
DESCRIPTION:Zcela nová zábavná talk show&nbsp\;ženské trojice hereček a&nbsp\;zpěvaček Sandry POGODOVÉ\, Jitky ASTEROVÉ a Lindy FINKOVÉ - "SIRÉNY NA CESTÁCH".Jejich neotřelý&nbsp\;smysl pro humor a vzájemná chuť si ze sebe utahovat vás rozhodně pobaví.Pořad je plný šťavnatých vyprávění a historek ze zákulisí natáčení a&nbsp\;divadelního světa. To vše prošpikováno šansony a písněmi z muzikálů tvoří dokonalý program\, na který budete dlouho vzpomínat s úsměvem na tváři.Po&nbsp\;skončení pořadu je ještě jako bonus autogramiáda.&nbsp\;Web pořadu: Sirény na cestách (S.Pogodová\,L.Finková\,J.Asterová) - Umělecká agentura Gardes https://gardes.cz/sireny-na-cestach-s-pogodoval-finkovaj-asterova/
LOCATION:Uhlířské Janovice
END:VEVENT
END:VCALENDAR