BEGIN:VCALENDAR
VERSION:2.0
CALSCALE:GREGORIAN
PRODID:-//MyApp//Calendar 1.0//EN
BEGIN:VEVENT
METHOD:PUBLISH
UID:43841@regionalniportaly.cz
DTSTAMP:20260422T135948Z
DTSTART;VALUE=DATE:20241014
DTEND;VALUE=DATE:20241015
SUMMARY:Čtyři Dohody: Jaroslav Dušek
DESCRIPTION:Autor: Don Miguel RuizV hlavní roli tohoto divadelního představení je Jaroslav Dušek.&nbsp\;Spoluúčinkují: Pjér La Š´éz a Zdeněk KonopásekSvětelný design Viktor Zborník\, zvuk Martin Dušek.Nadčasová kniha Čtyři dohody od&nbsp\;mexického spisovatele Dona Miguela Ruize už několik let inspiruje miliony čtenářů po&nbsp\;celém světě. Vychutnejte si osobité představení průvodce vlastní svobodou a&nbsp\;zamyšlením nad&nbsp\;sebou samým&nbsp\;v podání nezapomenutelného Jaroslava Duška. Ten představí čtyři základní principy pro&nbsp\;život plný nových prožitků\, svobody\, opravdového štěstí a&nbsp\;lásky vycházejících z&nbsp\;modrosti Toltéků aplikovaných na&nbsp\;dnešní dobu: nehřešte slovem\, neberte si nic osobně\, nevytvářejte si žádné domněnky a&nbsp\;vždy dělejte vše\, jak nejlépe dovedete.Vstupné: 440 Kč.Délka představení: 120 minut bez přestávky.Jedná se o benefiční představení. 30% z ceny vstupenky&nbsp\;bude předáno na veřejnou sbírku neziskové organizace Pampeliška Přelouč\, z. s.Based on thebook The Four Agreements&nbsp\;©&nbsp\;1997by Miguel Angel Ruiz\, M.D. and Janet Mills. Produced with permission ofAmber-Allen Publishing\, Inc. P.O. Box 6657\, San Rafael\, CA 94903. All rightsreserved.
LOCATION:Přelouč
END:VEVENT
END:VCALENDAR