BEGIN:VCALENDAR
VERSION:2.0
CALSCALE:GREGORIAN
PRODID:-//MyApp//Calendar 1.0//EN
BEGIN:VEVENT
METHOD:PUBLISH
UID:44112@regionalniportaly.cz
DTSTAMP:20260422T074250Z
DTSTART;VALUE=DATE:20240823
DTEND;VALUE=DATE:20240825
SUMMARY:Spolufest v Paběnickém mlýně
DESCRIPTION:Těšíme se na Vás na dalším Spolufestu&nbsp\;. Tentokráte na pozemcích Paběnického mlýna u Čáslavi.Můžete se těšit na- hudební program na hlavní stage\,- doprovodný program v pauzách hlavního programu\,- alternativní stánkový trhPátek 23. 8. 2024Otevření a seznámení se s prostorem - 17:00 - 18:15Petra Sila -hudební vystoupení 18:15 - 19:15Mantrovníci - hudební vystoupení 20:00 - ???&nbsp\;&nbsp\;Sobota 24. 8. 2024Monika Slabá - Ranní jóga pro všechny úrovně - 8:00 - 9:00Josi - Hudebník - 9:30 - 10:10DRUM FLOW - bubnování - 10:40 - 11:40Václav Kořínek - Zpěv a hra na netradiční hudební nástroje - 12:00 - 13:00Fousáč - Zpěv a hra na harmoniku - 13:30 - 14:30Terez Wrau - Hudebnice - 15:00 - 16:00Ava a Ondra Brožovi - Tajemná místa ČR + autorské čteníPřednáška - 16:30 - 17:30Maok - Hudebník - 18:00 - 19:00Firewalking (chůze po žhavém uhlí)Probíhá mimo hlavní scénu\, jen pro účastníky s lístkem na Firewalking 19:15 - 20:15Sonic Ecstatic Dance 20:30 - 22:00&nbsp\;Neděle 25. 8. 2024Monika Slabá - Ranní jóga pro všechny úrovně - 8:00 - 9:00Michaela Barbora &amp\; band - Hudebník - 10:00 - 11:00Marie Tilšarová - Hudebník - 11:30 - 12:30Ukončení festivalu - 13:30
LOCATION:Paběnice
END:VEVENT
END:VCALENDAR