BEGIN:VCALENDAR
VERSION:2.0
CALSCALE:GREGORIAN
PRODID:-//MyApp//Calendar 1.0//EN
BEGIN:VEVENT
METHOD:PUBLISH
UID:44400@regionalniportaly.cz
DTSTAMP:20260422T153806Z
DTSTART;VALUE=DATE:20240803
DTEND;VALUE=DATE:20240804
SUMMARY:Pobřežní festival 3. ročník
DESCRIPTION:Program druhého&nbsp\;dne&nbsp\;třetího ročníku Pobřežního festivalu bude pestrý. Hned v úvodu se o to postarají "navrátilci" The Brownies s úžasnou Annamárií d´Almeida. Pardubicko pražská poprocková skupina Cloory se představí v premiéře a následně novocirkusový soubor Cirk La Putyka odehraje legendární představení La Putyka\, které v rámci letošních oslav 15 let činnosti upravili pro venkovní scény. Jak je zřejmé z přiloženého traileru\, hudbu k představení tvořili Vojta Dyk\, Jakub Prachař a Jan Maxián. &nbsp\;O samotný závěr festivalu se střídavě postarají hudebníci ze smyčcového kvarteta spolu s vyprávěním od sdružení Storytelling.cz.
LOCATION:Přelouč
END:VEVENT
END:VCALENDAR