BEGIN:VCALENDAR
VERSION:2.0
CALSCALE:GREGORIAN
PRODID:-//MyApp//Calendar 1.0//EN
BEGIN:VEVENT
METHOD:PUBLISH
UID:45295@regionalniportaly.cz
DTSTAMP:20260422T092324Z
DTSTART;VALUE=DATE:20241101
DTEND;VALUE=DATE:20241102
SUMMARY:Pekař - (Ne)Obyčejné tour
DESCRIPTION:
LOCATION:Kutná Hora
END:VEVENT
END:VCALENDAR