BEGIN:VCALENDAR
VERSION:2.0
CALSCALE:GREGORIAN
PRODID:-//MyApp//Calendar 1.0//EN
BEGIN:VEVENT
METHOD:PUBLISH
UID:45296@regionalniportaly.cz
DTSTAMP:20260422T092354Z
DTSTART;VALUE=DATE:20241207
DTEND;VALUE=DATE:20241208
SUMMARY:ROHONY live / Dance party
DESCRIPTION:ADAM ROHONY a jeho hit LETNÁ na fotbalovém hřišti v Golčově Jeníkově.Nenechte si ujít poslední velkolepou Dance Party v letošním roce\, kde vystoupí současná MEGASTAR ROHONY!Rohony po úspěšném albu Superfly a nyní excelentním hitu LETNÁ vyráží i na velké Open Air akce. Jeho hudba vnáší do rapu zvuk hospod\, techna a kulturáků. Díky tomuto propojení si Rohony vytvořil vlastní žánr a s číslem 10 vyprodává nejenom velké kluby.Rohony spojil rap s taneční hudbou a jeho texty zná snad každý a tak čekáme jak si spolu zapaříme na " ZPÍVÁM PRVNÍ\, ZPÍVÁM NA LETNÝ TAM KDE TO MÁM RÁD ...".
LOCATION:Golčův Jeníkov
END:VEVENT
END:VCALENDAR