BEGIN:VCALENDAR
VERSION:2.0
CALSCALE:GREGORIAN
PRODID:-//MyApp//Calendar 1.0//EN
BEGIN:VEVENT
METHOD:PUBLISH
UID:46168@regionalniportaly.cz
DTSTAMP:20260422T122518Z
DTSTART;VALUE=DATE:20241013
DTEND;VALUE=DATE:20241014
SUMMARY:Celý Den s : Anna Hogenová
DESCRIPTION:Centrum JEDNA NOTA&nbsp\; na zámečku v&nbsp\;Přistoupimi13.10. 2024Vás srdečně zve na celodenní akci&nbsp\;v romantické barokní usedlosti\, na zámečku v Přistoupimi 1 u Českého Brodu. Bude to komorní setkání\, cca 50 míst\, u krbu v barokní usedlosti.*CD s jedinečnou BYTOSTÍanebCelý Den s ANNOU HOGENOVOU13.10.&nbsp\;2024&nbsp\; &nbsp\; &nbsp\; &nbsp\; &nbsp\;11.00 - 21.00 *Motto 1:"Z povrchu věcí do hlouby srdce"*cena je včetně oběda s nápojem zdarma&nbsp\;možnost dalšího občerstvení až do večera&nbsp\;Kde:zámeček v Přistoupimi čp.1 u Českého Broducca 35 min z Prahy autem i vlakem*PROGRAM&nbsp\; - 4x beseda- 3 x beseda&nbsp\;s profesorkou ANNOU HOGENOVOU&nbsp\; na téma:Filosofie a dnešekŽivot z vlastního prameneZdroje současného strachu&nbsp\;- 1x&nbsp\; beseda Dominiky Shiry&nbsp\; (autorkou knihy a karet Mandalový tarot) na téma:Zákon vibrací v životě\, mandalách\, ve vztazích*Motto 2:Synergie tří:Jedinečná Bytost Aničky Hogenové + čas celého dne + magické místo = synergie\, která Vás přivede do hlubokého prožitku a pochopení i transformace...*BONUSY ke vstupence (cca celkem 1350\,-):1. oběd s nealko nápojem zdarma2. vouger - sleva na 600\,- Kč na sezení&nbsp\;či&nbsp\;výklad karet u Dominiky Shiry3. vouger - sleva&nbsp\;10 % na další celodenní akci&nbsp\;"CD s Bytostí"\, dle vlastního výběru - info na dominika.shira9@seznam.cz&nbsp\;&nbsp\;
LOCATION:Přistoupim
END:VEVENT
END:VCALENDAR