BEGIN:VCALENDAR
VERSION:2.0
CALSCALE:GREGORIAN
PRODID:-//MyApp//Calendar 1.0//EN
BEGIN:VEVENT
METHOD:PUBLISH
UID:46257@regionalniportaly.cz
DTSTAMP:20260422T105550Z
DTSTART;VALUE=DATE:20241019
DTEND;VALUE=DATE:20241020
SUMMARY:Šlapeto
DESCRIPTION:Skupinu PATROLA ŠLAPETO založili v roce 2001 Radan Dolejš (dlouholetý šéf legendárního Šlapeta) a Karel Hoza (dlouholetý šéf Pražského pouťového promenádního orchestru). Skupina se systematicky věnuje interpretaci nejslavnějších hospodských kupletů\, popěvků a písní devatenáctého a první poloviny dvacátého století a převážné části repertoáru génia české písničky Karla Hašlera.
LOCATION:Uhlířské Janovice
END:VEVENT
END:VCALENDAR