BEGIN:VCALENDAR
VERSION:2.0
CALSCALE:GREGORIAN
PRODID:-//MyApp//Calendar 1.0//EN
BEGIN:VEVENT
METHOD:PUBLISH
UID:46338@regionalniportaly.cz
DTSTAMP:20260422T105448Z
DTSTART;VALUE=DATE:20241010
DTEND;VALUE=DATE:20241011
SUMMARY:Vtípečky v Kutné Hoře // Stand-up show
DESCRIPTION:Vtípečky se zelím přináší ty nejvypečenější komiky nové generace. Pětice vystupujících vám naservíruje to nejčerstvější\, co napekli za poslední dobu.&nbsp\;Své vtipy jako na podnose přinesou:Zdeněk Hruška&nbsp\;Lukáš Tomčal&nbsp\;Lukáš Kaňka&nbsp\;Ondřej Cabal&nbsp\;Pavel Hrdlička&nbsp\;&nbsp\;Těšíme se na vás&nbsp\;Komediální skupinu Vtípečky se zelím založili v roce 2022 Ondřej Cabal a Aleš Pitrmoc. Jejím cílem je shromažďovat začínající komiky a kolektivně rozvíjet řemeslo stand upu. V tom jim pomáhají také známí a zkušení komici Jiří Jakima a Tigran Hovakimyan.
LOCATION:Kutná Hora
END:VEVENT
END:VCALENDAR