BEGIN:VCALENDAR
VERSION:2.0
CALSCALE:GREGORIAN
PRODID:-//MyApp//Calendar 1.0//EN
BEGIN:VEVENT
METHOD:PUBLISH
UID:46483@regionalniportaly.cz
DTSTAMP:20260422T105459Z
DTSTART;VALUE=DATE:20241108
DTEND;VALUE=DATE:20241109
SUMMARY:Hudba Praha
DESCRIPTION:Hudba Praha&nbsp\;Charakteristický souzvuk kytar bratří Zatloukalů\, zakládajících členů skupin Jasná Páka a Hudba Praha\, podporovaný dunivou basovou kytarou Jirky Jelínka je zárukou originálního soundu.K sestavě dále patří vokalistky Denisa Cupáková a Magdaléna Vyšohlídová\, bubeník Tomáš Stloukal\, saxofonista Jakub Douda a frontman Zdeněk Hnyk\, jehož hlas můžete znát z vysílání pražského Radia 1.Hudba Praha hraje svoje největší hity od doby Jasné páky po současnost: Zákon o zachování energie\, Špinavý záda\, Pal vocuď\, Cizej chlap\, Marihuana\, Máma táta\, Můry\, Lunapark a další známé pecky doplňují nové písničky z desky Barevný sny\, která vznikla ještě pod názvem Hudba Praha band v roce 2021.Po smrti Michala Ambrože se kapela z pochopitelných důvodů vrací k původnímu názvu Hudba Praha.…&nbsp\;
LOCATION:Chotěboř
END:VEVENT
END:VCALENDAR