BEGIN:VCALENDAR
VERSION:2.0
CALSCALE:GREGORIAN
PRODID:-//MyApp//Calendar 1.0//EN
BEGIN:VEVENT
METHOD:PUBLISH
UID:46629@regionalniportaly.cz
DTSTAMP:20260422T092420Z
DTSTART;VALUE=DATE:20241206
DTEND;VALUE=DATE:20241207
SUMMARY:Big beat
DESCRIPTION:
LOCATION:Chotěboř
END:VEVENT
END:VCALENDAR