BEGIN:VCALENDAR
VERSION:2.0
CALSCALE:GREGORIAN
PRODID:-//MyApp//Calendar 1.0//EN
BEGIN:VEVENT
METHOD:PUBLISH
UID:47430@regionalniportaly.cz
DTSTAMP:20260422T080834Z
DTSTART;VALUE=DATE:20250823
DTEND;VALUE=DATE:20250824
SUMMARY:Chotěboř FEST 2025
DESCRIPTION:Jedná se o hudební akci s řadou doprovodných aktivit zaměřenou na velké i malé fanoušky rocku a festivalů pod širým nebem.Vedlejší program pamatuje i na dětské návštěvníky\, dospělí mají šanci ochutnat místní pivo značky Chotěboř.I s vaším přispěním opakujeme kulturní akci\, jejíž základy jsme položili v loňském roce a jsme rádi\, že se na ní opět potkáme s vámi i vašimi přáteli.&nbsp\;
LOCATION:Chotěboř
END:VEVENT
END:VCALENDAR