BEGIN:VCALENDAR
VERSION:2.0
CALSCALE:GREGORIAN
PRODID:-//MyApp//Calendar 1.0//EN
BEGIN:VEVENT
METHOD:PUBLISH
UID:47814@regionalniportaly.cz
DTSTAMP:20260422T105521Z
DTSTART;VALUE=DATE:20250329
DTEND;VALUE=DATE:20250330
SUMMARY:3.ples Rugby clubu Přelouč
DESCRIPTION:V sobotu 29.3.2025 uspořádáme už třetí ples Rugby clubu Přelouč. Poprvé to ale bude v Přelouči a hned v Občanské záložně.&nbsp\;Těšíme se na Vás
LOCATION:Přelouč
END:VEVENT
END:VCALENDAR