BEGIN:VCALENDAR
VERSION:2.0
CALSCALE:GREGORIAN
PRODID:-//MyApp//Calendar 1.0//EN
BEGIN:VEVENT
METHOD:PUBLISH
UID:48365@regionalniportaly.cz
DTSTAMP:20260422T122740Z
DTSTART;VALUE=DATE:20250808
DTEND;VALUE=DATE:20250809
SUMMARY:Stadion Cup Břehy 2025
DESCRIPTION:26. ročník Stadion Cupu v Břehách u Přelouče.Druhý srpnový víkend bude patřit vyladěným dvoutaktům v jednostopých strojích. Těšit se můžete na závody mopedů\, fichtlů a Babett doplněné o zajímavý doprovodný program včetně několika kapel.&nbsp\;
LOCATION:Břehy
END:VEVENT
END:VCALENDAR