BEGIN:VCALENDAR
VERSION:2.0
CALSCALE:GREGORIAN
PRODID:-//MyApp//Calendar 1.0//EN
BEGIN:VEVENT
METHOD:PUBLISH
UID:48603@regionalniportaly.cz
DTSTAMP:20260422T080858Z
DTSTART;VALUE=DATE:20250726
DTEND;VALUE=DATE:20250727
SUMMARY:Den princezen a rytířů - Zámek Karlova Koruna
DESCRIPTION:VÍTEJTE V&nbsp\;POHÁDKOVÉM SVĚTĚ PLNÉM KOUZEL\, HER A FANTAZIEVstupte s námi do&nbsp\;říše pohádek\, kde se&nbsp\;splní sny malým i velkým. Nejkrásnější české zámky hostí Pohádkový svět plný kouzel\, her a&nbsp\;fantazie. Den princezen a rytířů je věnovaný&nbsp\;českým pohádkám\, princeznám\, rytířským soubojům. Program jako vždy provede Sabina Laurinová společně&nbsp\;princeznami a rytíři. Do světa fantazie vás vtáhnou nejen pohádkoví interpreti\, v Magic zóně si pak užijete ještě víc včetně přímého kontaktu s vytupujícími a přednostním focením s nimi.Na místě se můžete těšit především na Lollipopz\, Kamilu Nývltovou\, Adélku Hesovou\, Davida Deyla\, Pigy a Lilly\, Báru Ladrovou s kamarády\, Hopy Hop!\, Mlsotkové&nbsp\;a další.Jaké výhody mají vstupenky "Standard +&nbsp\;Magic zóna"?Jde o omezený počet vstupenek jejichž majitelé získají tyto výhody:1.&nbsp\;Meat &amp\; Greet přednostní focení se všemi vystupujícími umělci2. Vyhrazený prostor před pódiem3. Vstupenka pro dítě&nbsp\;do parku Mirakulum&nbsp\;v hodnotě 420Kč4. Praktický dárek pro dítě od společnosti Kores&nbsp\;v hodnotě 270Kč5. Praktický dárek pro dítě&nbsp\;od společnosti Astrid&nbsp\;v hodnotě 170Kč6. Welcome drink pro rodiče7. Malování na obličej ve stylu malé mořské víly nebo&nbsp\;Airbrush8.&nbsp\;PopcornProgram budeme postupně odhalovat&nbsp\;a doplňovat na webových stránkách www.denprincezen.cz\, určitě se máte na co těšit.Změny v&nbsp\;programu vyhrazeny.
LOCATION:Chlumec nad Cidlinou
END:VEVENT
END:VCALENDAR