BEGIN:VCALENDAR
VERSION:2.0
CALSCALE:GREGORIAN
PRODID:-//MyApp//Calendar 1.0//EN
BEGIN:VEVENT
METHOD:PUBLISH
UID:52040@regionalniportaly.cz
DTSTAMP:20260422T092344Z
DTSTART;VALUE=DATE:20250510
DTEND;VALUE=DATE:20250511
SUMMARY:Taneční vystoupení Dance&Joy Chlumec nad Cidlinou
DESCRIPTION:Závěrečné vystoupení žáků taneční školy Dance&amp\;Joy z Chlumce na Cidlinou\, Městce Králové a Nového Bydžova.Předškoláčci\, Děti i Junioři z Chlumce\, Městce i Nového Bydžova&nbsp\;si připravili představení na téma "Z pohádky do pohádky".&nbsp\;Více informací1 vstupenka = 1 místo k sezení
LOCATION:Chlumec nad Cidlinou
END:VEVENT
END:VCALENDAR