BEGIN:VCALENDAR
VERSION:2.0
CALSCALE:GREGORIAN
PRODID:-//MyApp//Calendar 1.0//EN
BEGIN:VEVENT
METHOD:PUBLISH
UID:52975@regionalniportaly.cz
DTSTAMP:20260422T111053Z
DTSTART;VALUE=DATE:20250518
DTEND;VALUE=DATE:20250519
SUMMARY:Street food piknik zámek Kačina
DESCRIPTION:&nbsp\;Největší street food piknik v Čechách je tady!&nbsp\;Přijďte si užít den plný lahodného jídla\, pití a zábavy v malebném prostředí zámeckého parku Kačina! V neděli 18. května 2025 od 10:00 se brány tohoto gurmánského ráje otevřou a Vy můžete ochutnat speciality z celého světa.Naše akce Dobré jídlo světa street food piknik zámek Kačina Vám nabídne:*Kulinářské speciality z rukou zkušených street food kuchařů. Od šťavnatých burgerů a exotických kari až po lahodné dezerty\, zmrzuliny\, exotické ovoce a osvěžující limonády. Na jednom místě ochutnáte to nejlepší z kuchyní celého světa!*Stejně jako v předchozích ročnících\, i letos se můžete těšit na skvělou atmosféru\, pohodu na louce ve stínu stromů a spoustu zábavy.*Každý rok se snažíme přinést něco nového\, takže se můžete těšit na nové speciality a kulinářské zážitky.*Nezapomeňte si vzít piknikovou deku a dobrou náladu!Podrobné informace budeme přidávat později.Vstupné na místě děti do 9 let zdarmaOd 9 do 15 let Kč 100/ Kč 70 předprodejOstatní Kč 150/ Kč 120 předprodejVychovaným pejskům vstup povolen.Kontakt na pořadatele: Dobrejidlosveta@seznam.cz
LOCATION:Kutná Hora
END:VEVENT
END:VCALENDAR