BEGIN:VCALENDAR
VERSION:2.0
CALSCALE:GREGORIAN
PRODID:-//MyApp//Calendar 1.0//EN
BEGIN:VEVENT
METHOD:PUBLISH
UID:53929@regionalniportaly.cz
DTSTAMP:20260422T153855Z
DTSTART;VALUE=DATE:20250722
DTEND;VALUE=DATE:20250723
SUMMARY:4 ROCKEŘI s operní pěvkyní  "NA ROCKOVÉ SVATBĚ"
DESCRIPTION:Přátelé\, tenhle koncert nemůžete prošvihnout\, pokud máte rádi rock s kapkou operního sopránu. Bude to skvělý koncert s nefalšovanou rockovou svatbou. Přijďte si ho užít. Těšíme se na vás v letním kině na Konopáči!&nbsp\;Zazní: Smetanova Vltava\, Back to Black\, Atlantida\, Fantom Opery\, Sweet Dreams\, Who Wants to Live Forever a mnoho dalších hitů v rockovém kabátě.Zpívají: Jiří Zonyga\, Milan Devinne\, Leona Šenková\, Lukáš Písařík a operní pěvkyně Lucie Silkenová
LOCATION:Heřmanův Městec
END:VEVENT
END:VCALENDAR