BEGIN:VCALENDAR
VERSION:2.0
CALSCALE:GREGORIAN
PRODID:-//MyApp//Calendar 1.0//EN
BEGIN:VEVENT
METHOD:PUBLISH
UID:53965@regionalniportaly.cz
DTSTAMP:20260422T140147Z
DTSTART;VALUE=DATE:20250711
DTEND;VALUE=DATE:20250712
SUMMARY:POBŘEŽNÍ FESTIVAL 4. ročník
DESCRIPTION:Již počtvrté se sejdeme v romantickém prostředí louky orámované vzrostlými stromy na labském břehu v těsné blízkosti města Přelouč.&nbsp\;I tentokrát se představí na multižánrovém festivalu interpreti z oboru&nbsp\;nového cirkusu\, ve dvou případech půjde o premiéru. Poprvé se u nás v pátek představí soubor AIRGYM ART COMPANY s představením "Létací sen č.311"\, v sobotu pak půjde o uvedení zbrusu nového kusu od legendárního CIRKU LA PUTYKA&nbsp\;. Představení pod názvem "SPLASH" u nás sehrají zhruba měsíc po prvním uvedení. V divadelní části programu festivalu si v sobotu \, díky loutkohereckému spolku JULIE &amp\; SPOL\, připomeneme letošní 120. výročí narození Jana Wericha uvedením pohádky "Až opadá listí z dubu". Soubor je tvořen nejen loutkoherci\, ale má i vlastní doprovodnou hudební složku.&nbsp\;Hudební složka festivalu již tradičně&nbsp\;představí rozmanité žánry. V pátek ohlásí návrat oblíbená skupina ZRNÍ (minimálně námi\, ale věřím\, že v okolí má příznivců dost).&nbsp\;V sobotu proletíme letem světem díky vystoupení souboru RAJTARAJ. Pokud byli dobří pro Colour Meeting&nbsp\;\, opavský Slunovrat či Letní Letnou\, vězte\, že zaujmou i u nás.&nbsp\;Pro mnohé bude vyvrcholením vystoupení věhlasné violoncellistky TEREZIE KOVALOVÉ.Po loňském zařazení "doplňkového" přídavku v podobě produkce echtovního trampského tria jsme se rozhodli zopakovat to i letos.&nbsp\;Výčet hudebníků v programu bude bohatší\, vyplatí se sledovat facebook a webové stránky.Mezi programové novinky letošního ročníku patří i zařazení žánru slam poetry\, v našem případě v provedení špičkových tuzemských interpretů.&nbsp\;V tomto roce by se mělo uskutečnit i povídání s autorem "Přeloučského románu"\, účast přislíbila Zdenička Spruzená aka Tomáš MazalNaší snahou je spokojenost návštěvníků a to se odráží i ve skladbě poskytovatelů občerstvovacích služeb.&nbsp\;Došlo i k rozšíření jejich počtu a tím i sortimentu. Ovšem změn bude víc.&nbsp\; Nakonec přijďte a poznejte sami.
LOCATION:Přelouč
END:VEVENT
END:VCALENDAR