BEGIN:VCALENDAR
VERSION:2.0
CALSCALE:GREGORIAN
PRODID:-//MyApp//Calendar 1.0//EN
BEGIN:VEVENT
METHOD:PUBLISH
UID:57195@regionalniportaly.cz
DTSTAMP:20260422T044141Z
DTSTART;VALUE=DATE:20260822
DTEND;VALUE=DATE:20260823
SUMMARY:Chotěboř fest 2026
DESCRIPTION:Jedná se o hudební akci s řadou doprovodných aktivit zaměřenou na velké i malé fanoušky rocku a festivalů pod širým nebem.Vedlejší program pamatuje i na dětské návštěvníky\, dospělí mají šanci ochutnat místní pivo značky Chotěboř přímo od zdroje.Díky vašemu přispění opakujeme úspěšnou společenskou akci a jsme rádi\, že se na ní opět potkáme s vámi i vašimi přáteli.
LOCATION:Chotěboř
END:VEVENT
END:VCALENDAR