BEGIN:VCALENDAR
VERSION:2.0
CALSCALE:GREGORIAN
PRODID:-//MyApp//Calendar 1.0//EN
BEGIN:VEVENT
METHOD:PUBLISH
UID:58790@regionalniportaly.cz
DTSTAMP:20260422T155259Z
DTSTART;VALUE=DATE:20251220
DTEND;VALUE=DATE:20251221
SUMMARY:Luboš Pospíšil & 5P  "75"
DESCRIPTION:
LOCATION:Chotěboř
END:VEVENT
END:VCALENDAR