BEGIN:VCALENDAR
VERSION:2.0
CALSCALE:GREGORIAN
PRODID:-//MyApp//Calendar 1.0//EN
BEGIN:VEVENT
METHOD:PUBLISH
UID:58792@regionalniportaly.cz
DTSTAMP:20260422T122334Z
DTSTART;VALUE=DATE:20251114
DTEND;VALUE=DATE:20251115
SUMMARY:Rock*Music*Live*HOT SHOTS!*Two Finger Slide
DESCRIPTION:
LOCATION:Chotěboř
END:VEVENT
END:VCALENDAR