BEGIN:VCALENDAR
VERSION:2.0
CALSCALE:GREGORIAN
PRODID:-//MyApp//Calendar 1.0//EN
BEGIN:VEVENT
METHOD:PUBLISH
UID:59678@regionalniportaly.cz
DTSTAMP:20260422T155217Z
DTSTART;VALUE=DATE:20260206
DTEND;VALUE=DATE:20260207
SUMMARY:4. ples Rugby clubu Přelouč
DESCRIPTION:V pátek&nbsp\;6.2. 2026&nbsp\;uspořádáme už celkově čtvrtý&nbsp\;ples Rugby clubu Přelouč\, a znovu to bude&nbsp\; v Občanské záložně.&nbsp\;Těšíme se na Vás.
LOCATION:Přelouč
END:VEVENT
END:VCALENDAR