BEGIN:VCALENDAR
VERSION:2.0
CALSCALE:GREGORIAN
PRODID:-//MyApp//Calendar 1.0//EN
BEGIN:VEVENT
METHOD:PUBLISH
UID:62870@regionalniportaly.cz
DTSTAMP:20260422T122343Z
DTSTART;VALUE=DATE:20260321
DTEND;VALUE=DATE:20260322
SUMMARY:Wotazník + hosté | PŘESTUPNÍ STANICE TOUR | Kutná Hora
DESCRIPTION:Boleslavská kapela Wotazník po dlouhém čekání vydává novou desku 'Přestupní stanice' a vyráží na jarní klubové turné. V Kutné Hoře se představí 21.3. v klubu Česká 1 spolu s domácími kapelami Torrax\, Agarwean a L8 N1TES.&nbsp\;🛼WOTAZNÍK🛼[rock\, Mladá Boleslav]Wotazník je šestice mladých\, pohledných\, talentovaných a v neposlední řadě skromných gentlemanů. Stavíme na poctivým rockovým základu s chytlavými českými texty\, ale taky s žánrovými odbočkami kamkoliv\, kde nás to zrovna baví. Během show ti dáme všechnu energii co máme\, jediný triko nezůstane suchý. Máme venku nový album Přestupní Stanice\, tak ho mazej točit!🎧&nbsp\;https://open.spotify.com/artist/5AaDXTFgJPfjKEpHYAleVk?si=m8-E2VxzTVmsAjZ8IibJaw🏴‍☠️TORRAX🏴‍☠️[power-metal\, Kutná Hora]Torrax přinese power/heavy metalový nářez ve stylu klasické metalové školy 80. let s melodickými riffy\, ostrými sóly a silnou koncertní atmosférou.🎧&nbsp\;https://open.spotify.com/artist/58cSGejlwfb33w2AApEMUW?si=QZDMd9wEQG-voiI4p5Gw_A🩸AGARWEAN🩸[death-metalcore\, Kutná Hora]Agarwean je lokální deathmetalová kapela s kořeny v počátcích&nbsp\;českého extrémního metalu nultých let\, která vznikla v Kutné Hoře a i po letech dokázala znovu vystoupit a udělat fanouškům radost koncerty i na přelomu 2020–2023. Po několikaleté pauze se na pódiu ukáže právě 21.3. v České 1.🎧&nbsp\;https://bandzone.cz/agarwean🎸L8 N1TES🎸[punk/grunge/metal\, Kutná Hora]L8 N1TES je nová lokální kapela\, od který můžete čekat cokoliv. Přinese kutnohorskej punk\, grunge a metal a shows plný nevybíravý energie.&nbsp\;VSTUPNÉ NA MÍSTĚ ZA&nbsp\;350\,-&nbsp\;
LOCATION:Kutná Hora
END:VEVENT
END:VCALENDAR