BEGIN:VCALENDAR
VERSION:2.0
CALSCALE:GREGORIAN
PRODID:-//MyApp//Calendar 1.0//EN
BEGIN:VEVENT
METHOD:PUBLISH
UID:63902@regionalniportaly.cz
DTSTAMP:20260422T113655Z
DTSTART;VALUE=DATE:20260306
DTEND;VALUE=DATE:20260424
SUMMARY:Marie Slavotínková - Divoký let
DESCRIPTION:
LOCATION:Kutná Hora
END:VEVENT
END:VCALENDAR