BEGIN:VCALENDAR
VERSION:2.0
CALSCALE:GREGORIAN
PRODID:-//MyApp//Calendar 1.0//EN
BEGIN:VEVENT
METHOD:PUBLISH
UID:65609@regionalniportaly.cz
DTSTAMP:20260422T011814Z
DTSTART;VALUE=DATE:20260514
DTEND;VALUE=DATE:20260515
SUMMARY:OZVĚNY Sportfilm Festivalu Liberec s Lukášem Krpálkem 14.5. Galerie GASK
DESCRIPTION:Ve spolupráci se Středočeským krajem pořádáme dne 14.5.2026 v Galerii GASK Kutná Hora OZVĚNY SPORTFILM FESTIVALU LIBEREC\, jehož hlavní hvězdou bude Lukáš Krpálek. Přijede osobně uvést svůj film JEMNÝ RVÁČ. Od 19:30 mohou všichni fanoušci do Galerie GASK přijít Lukášovi položit všetečné dotazy\, jeho film uvedeme ve 20:00.\nZačínáme v 16:00 australským dokumentem o Věře Čáslavské NEODVRACEJ OČI\, dalším skvělým snímek je napínavý dokument MAGOŘI NA KOLE\, který v loňském ročníku festivalu získal Ocenění v kategorii Česká scéna. Přijďte s námi prožít pokus o zdolání a následném sjezdu z nepálské hory Mera Peak (6461 m. n.m.) - nejvyšší místo\, které kdy bylo pokořeno na kole. Pokračujeme ódou na oceán\, poetickým dokumentem KONEC SVĚTA. Pak už za námi dorazí skvělý a jedinečný Lukáš Krpálek!\nAkce je díky spolupráci se Středočeským krajem ZDARMA! \nTěšíme se na vás!\n \nRenata Balašová\nředitelka SPORTFILM FESTIVALU LIBEREC\n 
LOCATION:Kutná Hora
END:VEVENT
END:VCALENDAR